BEGIN:VCALENDAR
VERSION:2.0
PRODID:-//South Bend, Indiana - ECPv6.15.20//NONSGML v1.0//EN
CALSCALE:GREGORIAN
METHOD:PUBLISH
X-WR-CALNAME:South Bend, Indiana
X-ORIGINAL-URL:https://southbendin.gov
X-WR-CALDESC:Events for South Bend, Indiana
REFRESH-INTERVAL;VALUE=DURATION:PT1H
X-Robots-Tag:noindex
X-PUBLISHED-TTL:PT1H
BEGIN:VTIMEZONE
TZID:America/Indiana/Indianapolis
BEGIN:DAYLIGHT
TZOFFSETFROM:-0500
TZOFFSETTO:-0400
TZNAME:EDT
DTSTART:20270314T070000
END:DAYLIGHT
BEGIN:STANDARD
TZOFFSETFROM:-0400
TZOFFSETTO:-0500
TZNAME:EST
DTSTART:20271107T060000
END:STANDARD
BEGIN:DAYLIGHT
TZOFFSETFROM:-0500
TZOFFSETTO:-0400
TZNAME:EDT
DTSTART:20280312T070000
END:DAYLIGHT
BEGIN:STANDARD
TZOFFSETFROM:-0400
TZOFFSETTO:-0500
TZNAME:EST
DTSTART:20281105T060000
END:STANDARD
BEGIN:DAYLIGHT
TZOFFSETFROM:-0500
TZOFFSETTO:-0400
TZNAME:EDT
DTSTART:20290311T070000
END:DAYLIGHT
BEGIN:STANDARD
TZOFFSETFROM:-0400
TZOFFSETTO:-0500
TZNAME:EST
DTSTART:20291104T060000
END:STANDARD
BEGIN:DAYLIGHT
TZOFFSETFROM:-0500
TZOFFSETTO:-0400
TZNAME:EDT
DTSTART:20300310T070000
END:DAYLIGHT
BEGIN:STANDARD
TZOFFSETFROM:-0400
TZOFFSETTO:-0500
TZNAME:EST
DTSTART:20301103T060000
END:STANDARD
END:VTIMEZONE
BEGIN:VEVENT
DTSTART;TZID=America/Indiana/Indianapolis:20280112T130000
DTEND;TZID=America/Indiana/Indianapolis:20280112T140000
DTSTAMP:20260421T093910
CREATED:20250109T140729Z
LAST-MODIFIED:20250109T140822Z
UID:20003082-1831294800-1831298400@southbendin.gov
SUMMARY:Special Events Committee Meeting
DESCRIPTION:
URL:https://southbendin.gov/event/special-events-committee-meeting-3/2028-01-12/
CATEGORIES:Special Events Committee
LOCATION:https://teams.microsoft.com/dl/launcher/launcher.html?url=%2F_%23%2Fl%2Fmeetup-join%2F19%3Ameeting_ZWNiODI4NmMtOWI0OC00ZThiLTk5OGQtOTBhNDY4ZmZjNTdk%40thread.v2%2F0%3Fcontext%3D%257b%2522Tid%2522%253a%2522c5ddf8e5-79f5-4eef-8661-81e186c524bb%2522%252c%2522Oid%2522%253a%2522b0d6dfe1-6fd2-4be6-80d8-8ed8a4e31c2f%2522%257d%26anon%3Dtrue&type=meetup-join&deeplinkId=d4e3951d-f9d3-4f20-b478-e39e2ab55b9f&directDl=true&msLaunch=true&enableMobilePage=true&suppressPrompt=true
END:VEVENT
BEGIN:VEVENT
DTSTART;TZID=America/Indiana/Indianapolis:20280126T130000
DTEND;TZID=America/Indiana/Indianapolis:20280126T140000
DTSTAMP:20260421T093910
CREATED:20250109T140141Z
LAST-MODIFIED:20250109T141551Z
UID:20003143-1832504400-1832508000@southbendin.gov
SUMMARY:Special Events Committee Meeting
DESCRIPTION:
URL:https://southbendin.gov/event/special-events-committee-meeting-2/2028-01-26/
CATEGORIES:Special Events Committee
LOCATION:https://teams.microsoft.com/dl/launcher/launcher.html?url=%2F_%23%2Fl%2Fmeetup-join%2F19%3Ameeting_ZWNiODI4NmMtOWI0OC00ZThiLTk5OGQtOTBhNDY4ZmZjNTdk%40thread.v2%2F0%3Fcontext%3D%257b%2522Tid%2522%253a%2522c5ddf8e5-79f5-4eef-8661-81e186c524bb%2522%252c%2522Oid%2522%253a%2522b0d6dfe1-6fd2-4be6-80d8-8ed8a4e31c2f%2522%257d%26anon%3Dtrue&type=meetup-join&deeplinkId=d4e3951d-f9d3-4f20-b478-e39e2ab55b9f&directDl=true&msLaunch=true&enableMobilePage=true&suppressPrompt=true
END:VEVENT
BEGIN:VEVENT
DTSTART;TZID=America/Indiana/Indianapolis:20280209T130000
DTEND;TZID=America/Indiana/Indianapolis:20280209T140000
DTSTAMP:20260421T093910
CREATED:20250109T140729Z
LAST-MODIFIED:20250109T140822Z
UID:20003083-1833714000-1833717600@southbendin.gov
SUMMARY:Special Events Committee Meeting
DESCRIPTION:
URL:https://southbendin.gov/event/special-events-committee-meeting-3/2028-02-09/
CATEGORIES:Special Events Committee
LOCATION:https://teams.microsoft.com/dl/launcher/launcher.html?url=%2F_%23%2Fl%2Fmeetup-join%2F19%3Ameeting_ZWNiODI4NmMtOWI0OC00ZThiLTk5OGQtOTBhNDY4ZmZjNTdk%40thread.v2%2F0%3Fcontext%3D%257b%2522Tid%2522%253a%2522c5ddf8e5-79f5-4eef-8661-81e186c524bb%2522%252c%2522Oid%2522%253a%2522b0d6dfe1-6fd2-4be6-80d8-8ed8a4e31c2f%2522%257d%26anon%3Dtrue&type=meetup-join&deeplinkId=d4e3951d-f9d3-4f20-b478-e39e2ab55b9f&directDl=true&msLaunch=true&enableMobilePage=true&suppressPrompt=true
END:VEVENT
BEGIN:VEVENT
DTSTART;TZID=America/Indiana/Indianapolis:20280223T130000
DTEND;TZID=America/Indiana/Indianapolis:20280223T140000
DTSTAMP:20260421T093910
CREATED:20250109T140141Z
LAST-MODIFIED:20250109T141551Z
UID:20003144-1834923600-1834927200@southbendin.gov
SUMMARY:Special Events Committee Meeting
DESCRIPTION:
URL:https://southbendin.gov/event/special-events-committee-meeting-2/2028-02-23/
CATEGORIES:Special Events Committee
LOCATION:https://teams.microsoft.com/dl/launcher/launcher.html?url=%2F_%23%2Fl%2Fmeetup-join%2F19%3Ameeting_ZWNiODI4NmMtOWI0OC00ZThiLTk5OGQtOTBhNDY4ZmZjNTdk%40thread.v2%2F0%3Fcontext%3D%257b%2522Tid%2522%253a%2522c5ddf8e5-79f5-4eef-8661-81e186c524bb%2522%252c%2522Oid%2522%253a%2522b0d6dfe1-6fd2-4be6-80d8-8ed8a4e31c2f%2522%257d%26anon%3Dtrue&type=meetup-join&deeplinkId=d4e3951d-f9d3-4f20-b478-e39e2ab55b9f&directDl=true&msLaunch=true&enableMobilePage=true&suppressPrompt=true
END:VEVENT
BEGIN:VEVENT
DTSTART;TZID=America/Indiana/Indianapolis:20280308T130000
DTEND;TZID=America/Indiana/Indianapolis:20280308T140000
DTSTAMP:20260421T093910
CREATED:20250109T140729Z
LAST-MODIFIED:20250109T140822Z
UID:20003084-1836133200-1836136800@southbendin.gov
SUMMARY:Special Events Committee Meeting
DESCRIPTION:
URL:https://southbendin.gov/event/special-events-committee-meeting-3/2028-03-08/
CATEGORIES:Special Events Committee
LOCATION:https://teams.microsoft.com/dl/launcher/launcher.html?url=%2F_%23%2Fl%2Fmeetup-join%2F19%3Ameeting_ZWNiODI4NmMtOWI0OC00ZThiLTk5OGQtOTBhNDY4ZmZjNTdk%40thread.v2%2F0%3Fcontext%3D%257b%2522Tid%2522%253a%2522c5ddf8e5-79f5-4eef-8661-81e186c524bb%2522%252c%2522Oid%2522%253a%2522b0d6dfe1-6fd2-4be6-80d8-8ed8a4e31c2f%2522%257d%26anon%3Dtrue&type=meetup-join&deeplinkId=d4e3951d-f9d3-4f20-b478-e39e2ab55b9f&directDl=true&msLaunch=true&enableMobilePage=true&suppressPrompt=true
END:VEVENT
BEGIN:VEVENT
DTSTART;TZID=America/Indiana/Indianapolis:20280322T130000
DTEND;TZID=America/Indiana/Indianapolis:20280322T140000
DTSTAMP:20260421T093910
CREATED:20250109T140141Z
LAST-MODIFIED:20250109T141551Z
UID:20003145-1837342800-1837346400@southbendin.gov
SUMMARY:Special Events Committee Meeting
DESCRIPTION:
URL:https://southbendin.gov/event/special-events-committee-meeting-2/2028-03-22/
CATEGORIES:Special Events Committee
LOCATION:https://teams.microsoft.com/dl/launcher/launcher.html?url=%2F_%23%2Fl%2Fmeetup-join%2F19%3Ameeting_ZWNiODI4NmMtOWI0OC00ZThiLTk5OGQtOTBhNDY4ZmZjNTdk%40thread.v2%2F0%3Fcontext%3D%257b%2522Tid%2522%253a%2522c5ddf8e5-79f5-4eef-8661-81e186c524bb%2522%252c%2522Oid%2522%253a%2522b0d6dfe1-6fd2-4be6-80d8-8ed8a4e31c2f%2522%257d%26anon%3Dtrue&type=meetup-join&deeplinkId=d4e3951d-f9d3-4f20-b478-e39e2ab55b9f&directDl=true&msLaunch=true&enableMobilePage=true&suppressPrompt=true
END:VEVENT
BEGIN:VEVENT
DTSTART;TZID=America/Indiana/Indianapolis:20280412T130000
DTEND;TZID=America/Indiana/Indianapolis:20280412T140000
DTSTAMP:20260421T093910
CREATED:20250109T140729Z
LAST-MODIFIED:20250109T140822Z
UID:20003085-1839157200-1839160800@southbendin.gov
SUMMARY:Special Events Committee Meeting
DESCRIPTION:
URL:https://southbendin.gov/event/special-events-committee-meeting-3/2028-04-12/
CATEGORIES:Special Events Committee
LOCATION:https://teams.microsoft.com/dl/launcher/launcher.html?url=%2F_%23%2Fl%2Fmeetup-join%2F19%3Ameeting_ZWNiODI4NmMtOWI0OC00ZThiLTk5OGQtOTBhNDY4ZmZjNTdk%40thread.v2%2F0%3Fcontext%3D%257b%2522Tid%2522%253a%2522c5ddf8e5-79f5-4eef-8661-81e186c524bb%2522%252c%2522Oid%2522%253a%2522b0d6dfe1-6fd2-4be6-80d8-8ed8a4e31c2f%2522%257d%26anon%3Dtrue&type=meetup-join&deeplinkId=d4e3951d-f9d3-4f20-b478-e39e2ab55b9f&directDl=true&msLaunch=true&enableMobilePage=true&suppressPrompt=true
END:VEVENT
BEGIN:VEVENT
DTSTART;TZID=America/Indiana/Indianapolis:20280426T130000
DTEND;TZID=America/Indiana/Indianapolis:20280426T140000
DTSTAMP:20260421T093910
CREATED:20250109T140141Z
LAST-MODIFIED:20250109T141551Z
UID:20003146-1840366800-1840370400@southbendin.gov
SUMMARY:Special Events Committee Meeting
DESCRIPTION:
URL:https://southbendin.gov/event/special-events-committee-meeting-2/2028-04-26/
CATEGORIES:Special Events Committee
LOCATION:https://teams.microsoft.com/dl/launcher/launcher.html?url=%2F_%23%2Fl%2Fmeetup-join%2F19%3Ameeting_ZWNiODI4NmMtOWI0OC00ZThiLTk5OGQtOTBhNDY4ZmZjNTdk%40thread.v2%2F0%3Fcontext%3D%257b%2522Tid%2522%253a%2522c5ddf8e5-79f5-4eef-8661-81e186c524bb%2522%252c%2522Oid%2522%253a%2522b0d6dfe1-6fd2-4be6-80d8-8ed8a4e31c2f%2522%257d%26anon%3Dtrue&type=meetup-join&deeplinkId=d4e3951d-f9d3-4f20-b478-e39e2ab55b9f&directDl=true&msLaunch=true&enableMobilePage=true&suppressPrompt=true
END:VEVENT
BEGIN:VEVENT
DTSTART;TZID=America/Indiana/Indianapolis:20280510T130000
DTEND;TZID=America/Indiana/Indianapolis:20280510T140000
DTSTAMP:20260421T093910
CREATED:20250109T140729Z
LAST-MODIFIED:20250109T140822Z
UID:20003086-1841576400-1841580000@southbendin.gov
SUMMARY:Special Events Committee Meeting
DESCRIPTION:
URL:https://southbendin.gov/event/special-events-committee-meeting-3/2028-05-10/
CATEGORIES:Special Events Committee
LOCATION:https://teams.microsoft.com/dl/launcher/launcher.html?url=%2F_%23%2Fl%2Fmeetup-join%2F19%3Ameeting_ZWNiODI4NmMtOWI0OC00ZThiLTk5OGQtOTBhNDY4ZmZjNTdk%40thread.v2%2F0%3Fcontext%3D%257b%2522Tid%2522%253a%2522c5ddf8e5-79f5-4eef-8661-81e186c524bb%2522%252c%2522Oid%2522%253a%2522b0d6dfe1-6fd2-4be6-80d8-8ed8a4e31c2f%2522%257d%26anon%3Dtrue&type=meetup-join&deeplinkId=d4e3951d-f9d3-4f20-b478-e39e2ab55b9f&directDl=true&msLaunch=true&enableMobilePage=true&suppressPrompt=true
END:VEVENT
BEGIN:VEVENT
DTSTART;TZID=America/Indiana/Indianapolis:20280524T130000
DTEND;TZID=America/Indiana/Indianapolis:20280524T140000
DTSTAMP:20260421T093910
CREATED:20250109T140141Z
LAST-MODIFIED:20250109T141551Z
UID:20003147-1842786000-1842789600@southbendin.gov
SUMMARY:Special Events Committee Meeting
DESCRIPTION:
URL:https://southbendin.gov/event/special-events-committee-meeting-2/2028-05-24/
CATEGORIES:Special Events Committee
LOCATION:https://teams.microsoft.com/dl/launcher/launcher.html?url=%2F_%23%2Fl%2Fmeetup-join%2F19%3Ameeting_ZWNiODI4NmMtOWI0OC00ZThiLTk5OGQtOTBhNDY4ZmZjNTdk%40thread.v2%2F0%3Fcontext%3D%257b%2522Tid%2522%253a%2522c5ddf8e5-79f5-4eef-8661-81e186c524bb%2522%252c%2522Oid%2522%253a%2522b0d6dfe1-6fd2-4be6-80d8-8ed8a4e31c2f%2522%257d%26anon%3Dtrue&type=meetup-join&deeplinkId=d4e3951d-f9d3-4f20-b478-e39e2ab55b9f&directDl=true&msLaunch=true&enableMobilePage=true&suppressPrompt=true
END:VEVENT
BEGIN:VEVENT
DTSTART;TZID=America/Indiana/Indianapolis:20280614T130000
DTEND;TZID=America/Indiana/Indianapolis:20280614T140000
DTSTAMP:20260421T093910
CREATED:20250109T140729Z
LAST-MODIFIED:20250109T140822Z
UID:20003087-1844600400-1844604000@southbendin.gov
SUMMARY:Special Events Committee Meeting
DESCRIPTION:
URL:https://southbendin.gov/event/special-events-committee-meeting-3/2028-06-14/
CATEGORIES:Special Events Committee
LOCATION:https://teams.microsoft.com/dl/launcher/launcher.html?url=%2F_%23%2Fl%2Fmeetup-join%2F19%3Ameeting_ZWNiODI4NmMtOWI0OC00ZThiLTk5OGQtOTBhNDY4ZmZjNTdk%40thread.v2%2F0%3Fcontext%3D%257b%2522Tid%2522%253a%2522c5ddf8e5-79f5-4eef-8661-81e186c524bb%2522%252c%2522Oid%2522%253a%2522b0d6dfe1-6fd2-4be6-80d8-8ed8a4e31c2f%2522%257d%26anon%3Dtrue&type=meetup-join&deeplinkId=d4e3951d-f9d3-4f20-b478-e39e2ab55b9f&directDl=true&msLaunch=true&enableMobilePage=true&suppressPrompt=true
END:VEVENT
BEGIN:VEVENT
DTSTART;TZID=America/Indiana/Indianapolis:20280628T130000
DTEND;TZID=America/Indiana/Indianapolis:20280628T140000
DTSTAMP:20260421T093910
CREATED:20250109T140141Z
LAST-MODIFIED:20250109T141551Z
UID:20003148-1845810000-1845813600@southbendin.gov
SUMMARY:Special Events Committee Meeting
DESCRIPTION:
URL:https://southbendin.gov/event/special-events-committee-meeting-2/2028-06-28/
CATEGORIES:Special Events Committee
LOCATION:https://teams.microsoft.com/dl/launcher/launcher.html?url=%2F_%23%2Fl%2Fmeetup-join%2F19%3Ameeting_ZWNiODI4NmMtOWI0OC00ZThiLTk5OGQtOTBhNDY4ZmZjNTdk%40thread.v2%2F0%3Fcontext%3D%257b%2522Tid%2522%253a%2522c5ddf8e5-79f5-4eef-8661-81e186c524bb%2522%252c%2522Oid%2522%253a%2522b0d6dfe1-6fd2-4be6-80d8-8ed8a4e31c2f%2522%257d%26anon%3Dtrue&type=meetup-join&deeplinkId=d4e3951d-f9d3-4f20-b478-e39e2ab55b9f&directDl=true&msLaunch=true&enableMobilePage=true&suppressPrompt=true
END:VEVENT
BEGIN:VEVENT
DTSTART;TZID=America/Indiana/Indianapolis:20280712T130000
DTEND;TZID=America/Indiana/Indianapolis:20280712T140000
DTSTAMP:20260421T093910
CREATED:20250109T140729Z
LAST-MODIFIED:20250109T140822Z
UID:20003088-1847019600-1847023200@southbendin.gov
SUMMARY:Special Events Committee Meeting
DESCRIPTION:
URL:https://southbendin.gov/event/special-events-committee-meeting-3/2028-07-12/
CATEGORIES:Special Events Committee
LOCATION:https://teams.microsoft.com/dl/launcher/launcher.html?url=%2F_%23%2Fl%2Fmeetup-join%2F19%3Ameeting_ZWNiODI4NmMtOWI0OC00ZThiLTk5OGQtOTBhNDY4ZmZjNTdk%40thread.v2%2F0%3Fcontext%3D%257b%2522Tid%2522%253a%2522c5ddf8e5-79f5-4eef-8661-81e186c524bb%2522%252c%2522Oid%2522%253a%2522b0d6dfe1-6fd2-4be6-80d8-8ed8a4e31c2f%2522%257d%26anon%3Dtrue&type=meetup-join&deeplinkId=d4e3951d-f9d3-4f20-b478-e39e2ab55b9f&directDl=true&msLaunch=true&enableMobilePage=true&suppressPrompt=true
END:VEVENT
BEGIN:VEVENT
DTSTART;TZID=America/Indiana/Indianapolis:20280726T130000
DTEND;TZID=America/Indiana/Indianapolis:20280726T140000
DTSTAMP:20260421T093910
CREATED:20250109T140141Z
LAST-MODIFIED:20250109T141551Z
UID:20003149-1848229200-1848232800@southbendin.gov
SUMMARY:Special Events Committee Meeting
DESCRIPTION:
URL:https://southbendin.gov/event/special-events-committee-meeting-2/2028-07-26/
CATEGORIES:Special Events Committee
LOCATION:https://teams.microsoft.com/dl/launcher/launcher.html?url=%2F_%23%2Fl%2Fmeetup-join%2F19%3Ameeting_ZWNiODI4NmMtOWI0OC00ZThiLTk5OGQtOTBhNDY4ZmZjNTdk%40thread.v2%2F0%3Fcontext%3D%257b%2522Tid%2522%253a%2522c5ddf8e5-79f5-4eef-8661-81e186c524bb%2522%252c%2522Oid%2522%253a%2522b0d6dfe1-6fd2-4be6-80d8-8ed8a4e31c2f%2522%257d%26anon%3Dtrue&type=meetup-join&deeplinkId=d4e3951d-f9d3-4f20-b478-e39e2ab55b9f&directDl=true&msLaunch=true&enableMobilePage=true&suppressPrompt=true
END:VEVENT
BEGIN:VEVENT
DTSTART;TZID=America/Indiana/Indianapolis:20280809T130000
DTEND;TZID=America/Indiana/Indianapolis:20280809T140000
DTSTAMP:20260421T093910
CREATED:20250109T140729Z
LAST-MODIFIED:20250109T140822Z
UID:20003089-1849438800-1849442400@southbendin.gov
SUMMARY:Special Events Committee Meeting
DESCRIPTION:
URL:https://southbendin.gov/event/special-events-committee-meeting-3/2028-08-09/
CATEGORIES:Special Events Committee
LOCATION:https://teams.microsoft.com/dl/launcher/launcher.html?url=%2F_%23%2Fl%2Fmeetup-join%2F19%3Ameeting_ZWNiODI4NmMtOWI0OC00ZThiLTk5OGQtOTBhNDY4ZmZjNTdk%40thread.v2%2F0%3Fcontext%3D%257b%2522Tid%2522%253a%2522c5ddf8e5-79f5-4eef-8661-81e186c524bb%2522%252c%2522Oid%2522%253a%2522b0d6dfe1-6fd2-4be6-80d8-8ed8a4e31c2f%2522%257d%26anon%3Dtrue&type=meetup-join&deeplinkId=d4e3951d-f9d3-4f20-b478-e39e2ab55b9f&directDl=true&msLaunch=true&enableMobilePage=true&suppressPrompt=true
END:VEVENT
BEGIN:VEVENT
DTSTART;TZID=America/Indiana/Indianapolis:20280823T130000
DTEND;TZID=America/Indiana/Indianapolis:20280823T140000
DTSTAMP:20260421T093910
CREATED:20250109T140141Z
LAST-MODIFIED:20250109T141551Z
UID:20003150-1850648400-1850652000@southbendin.gov
SUMMARY:Special Events Committee Meeting
DESCRIPTION:
URL:https://southbendin.gov/event/special-events-committee-meeting-2/2028-08-23/
CATEGORIES:Special Events Committee
LOCATION:https://teams.microsoft.com/dl/launcher/launcher.html?url=%2F_%23%2Fl%2Fmeetup-join%2F19%3Ameeting_ZWNiODI4NmMtOWI0OC00ZThiLTk5OGQtOTBhNDY4ZmZjNTdk%40thread.v2%2F0%3Fcontext%3D%257b%2522Tid%2522%253a%2522c5ddf8e5-79f5-4eef-8661-81e186c524bb%2522%252c%2522Oid%2522%253a%2522b0d6dfe1-6fd2-4be6-80d8-8ed8a4e31c2f%2522%257d%26anon%3Dtrue&type=meetup-join&deeplinkId=d4e3951d-f9d3-4f20-b478-e39e2ab55b9f&directDl=true&msLaunch=true&enableMobilePage=true&suppressPrompt=true
END:VEVENT
BEGIN:VEVENT
DTSTART;TZID=America/Indiana/Indianapolis:20280913T130000
DTEND;TZID=America/Indiana/Indianapolis:20280913T140000
DTSTAMP:20260421T093910
CREATED:20250109T140729Z
LAST-MODIFIED:20250109T140822Z
UID:20003090-1852462800-1852466400@southbendin.gov
SUMMARY:Special Events Committee Meeting
DESCRIPTION:
URL:https://southbendin.gov/event/special-events-committee-meeting-3/2028-09-13/
CATEGORIES:Special Events Committee
LOCATION:https://teams.microsoft.com/dl/launcher/launcher.html?url=%2F_%23%2Fl%2Fmeetup-join%2F19%3Ameeting_ZWNiODI4NmMtOWI0OC00ZThiLTk5OGQtOTBhNDY4ZmZjNTdk%40thread.v2%2F0%3Fcontext%3D%257b%2522Tid%2522%253a%2522c5ddf8e5-79f5-4eef-8661-81e186c524bb%2522%252c%2522Oid%2522%253a%2522b0d6dfe1-6fd2-4be6-80d8-8ed8a4e31c2f%2522%257d%26anon%3Dtrue&type=meetup-join&deeplinkId=d4e3951d-f9d3-4f20-b478-e39e2ab55b9f&directDl=true&msLaunch=true&enableMobilePage=true&suppressPrompt=true
END:VEVENT
BEGIN:VEVENT
DTSTART;TZID=America/Indiana/Indianapolis:20280927T130000
DTEND;TZID=America/Indiana/Indianapolis:20280927T140000
DTSTAMP:20260421T093910
CREATED:20250109T140141Z
LAST-MODIFIED:20250109T141551Z
UID:20003151-1853672400-1853676000@southbendin.gov
SUMMARY:Special Events Committee Meeting
DESCRIPTION:
URL:https://southbendin.gov/event/special-events-committee-meeting-2/2028-09-27/
CATEGORIES:Special Events Committee
LOCATION:https://teams.microsoft.com/dl/launcher/launcher.html?url=%2F_%23%2Fl%2Fmeetup-join%2F19%3Ameeting_ZWNiODI4NmMtOWI0OC00ZThiLTk5OGQtOTBhNDY4ZmZjNTdk%40thread.v2%2F0%3Fcontext%3D%257b%2522Tid%2522%253a%2522c5ddf8e5-79f5-4eef-8661-81e186c524bb%2522%252c%2522Oid%2522%253a%2522b0d6dfe1-6fd2-4be6-80d8-8ed8a4e31c2f%2522%257d%26anon%3Dtrue&type=meetup-join&deeplinkId=d4e3951d-f9d3-4f20-b478-e39e2ab55b9f&directDl=true&msLaunch=true&enableMobilePage=true&suppressPrompt=true
END:VEVENT
BEGIN:VEVENT
DTSTART;TZID=America/Indiana/Indianapolis:20281011T130000
DTEND;TZID=America/Indiana/Indianapolis:20281011T140000
DTSTAMP:20260421T093910
CREATED:20250109T140729Z
LAST-MODIFIED:20250109T140822Z
UID:20003091-1854882000-1854885600@southbendin.gov
SUMMARY:Special Events Committee Meeting
DESCRIPTION:
URL:https://southbendin.gov/event/special-events-committee-meeting-3/2028-10-11/
CATEGORIES:Special Events Committee
LOCATION:https://teams.microsoft.com/dl/launcher/launcher.html?url=%2F_%23%2Fl%2Fmeetup-join%2F19%3Ameeting_ZWNiODI4NmMtOWI0OC00ZThiLTk5OGQtOTBhNDY4ZmZjNTdk%40thread.v2%2F0%3Fcontext%3D%257b%2522Tid%2522%253a%2522c5ddf8e5-79f5-4eef-8661-81e186c524bb%2522%252c%2522Oid%2522%253a%2522b0d6dfe1-6fd2-4be6-80d8-8ed8a4e31c2f%2522%257d%26anon%3Dtrue&type=meetup-join&deeplinkId=d4e3951d-f9d3-4f20-b478-e39e2ab55b9f&directDl=true&msLaunch=true&enableMobilePage=true&suppressPrompt=true
END:VEVENT
BEGIN:VEVENT
DTSTART;TZID=America/Indiana/Indianapolis:20281025T130000
DTEND;TZID=America/Indiana/Indianapolis:20281025T140000
DTSTAMP:20260421T093910
CREATED:20250109T140141Z
LAST-MODIFIED:20250109T141551Z
UID:20003152-1856091600-1856095200@southbendin.gov
SUMMARY:Special Events Committee Meeting
DESCRIPTION:
URL:https://southbendin.gov/event/special-events-committee-meeting-2/2028-10-25/
CATEGORIES:Special Events Committee
LOCATION:https://teams.microsoft.com/dl/launcher/launcher.html?url=%2F_%23%2Fl%2Fmeetup-join%2F19%3Ameeting_ZWNiODI4NmMtOWI0OC00ZThiLTk5OGQtOTBhNDY4ZmZjNTdk%40thread.v2%2F0%3Fcontext%3D%257b%2522Tid%2522%253a%2522c5ddf8e5-79f5-4eef-8661-81e186c524bb%2522%252c%2522Oid%2522%253a%2522b0d6dfe1-6fd2-4be6-80d8-8ed8a4e31c2f%2522%257d%26anon%3Dtrue&type=meetup-join&deeplinkId=d4e3951d-f9d3-4f20-b478-e39e2ab55b9f&directDl=true&msLaunch=true&enableMobilePage=true&suppressPrompt=true
END:VEVENT
BEGIN:VEVENT
DTSTART;TZID=America/Indiana/Indianapolis:20281108T130000
DTEND;TZID=America/Indiana/Indianapolis:20281108T140000
DTSTAMP:20260421T093910
CREATED:20250109T140729Z
LAST-MODIFIED:20250109T140822Z
UID:20003092-1857301200-1857304800@southbendin.gov
SUMMARY:Special Events Committee Meeting
DESCRIPTION:
URL:https://southbendin.gov/event/special-events-committee-meeting-3/2028-11-08/
CATEGORIES:Special Events Committee
LOCATION:https://teams.microsoft.com/dl/launcher/launcher.html?url=%2F_%23%2Fl%2Fmeetup-join%2F19%3Ameeting_ZWNiODI4NmMtOWI0OC00ZThiLTk5OGQtOTBhNDY4ZmZjNTdk%40thread.v2%2F0%3Fcontext%3D%257b%2522Tid%2522%253a%2522c5ddf8e5-79f5-4eef-8661-81e186c524bb%2522%252c%2522Oid%2522%253a%2522b0d6dfe1-6fd2-4be6-80d8-8ed8a4e31c2f%2522%257d%26anon%3Dtrue&type=meetup-join&deeplinkId=d4e3951d-f9d3-4f20-b478-e39e2ab55b9f&directDl=true&msLaunch=true&enableMobilePage=true&suppressPrompt=true
END:VEVENT
BEGIN:VEVENT
DTSTART;TZID=America/Indiana/Indianapolis:20281122T130000
DTEND;TZID=America/Indiana/Indianapolis:20281122T140000
DTSTAMP:20260421T093910
CREATED:20250109T140141Z
LAST-MODIFIED:20250109T141551Z
UID:20003153-1858510800-1858514400@southbendin.gov
SUMMARY:Special Events Committee Meeting
DESCRIPTION:
URL:https://southbendin.gov/event/special-events-committee-meeting-2/2028-11-22/
CATEGORIES:Special Events Committee
LOCATION:https://teams.microsoft.com/dl/launcher/launcher.html?url=%2F_%23%2Fl%2Fmeetup-join%2F19%3Ameeting_ZWNiODI4NmMtOWI0OC00ZThiLTk5OGQtOTBhNDY4ZmZjNTdk%40thread.v2%2F0%3Fcontext%3D%257b%2522Tid%2522%253a%2522c5ddf8e5-79f5-4eef-8661-81e186c524bb%2522%252c%2522Oid%2522%253a%2522b0d6dfe1-6fd2-4be6-80d8-8ed8a4e31c2f%2522%257d%26anon%3Dtrue&type=meetup-join&deeplinkId=d4e3951d-f9d3-4f20-b478-e39e2ab55b9f&directDl=true&msLaunch=true&enableMobilePage=true&suppressPrompt=true
END:VEVENT
BEGIN:VEVENT
DTSTART;TZID=America/Indiana/Indianapolis:20281213T130000
DTEND;TZID=America/Indiana/Indianapolis:20281213T140000
DTSTAMP:20260421T093910
CREATED:20250109T140729Z
LAST-MODIFIED:20250109T140822Z
UID:20003093-1860325200-1860328800@southbendin.gov
SUMMARY:Special Events Committee Meeting
DESCRIPTION:
URL:https://southbendin.gov/event/special-events-committee-meeting-3/2028-12-13/
CATEGORIES:Special Events Committee
LOCATION:https://teams.microsoft.com/dl/launcher/launcher.html?url=%2F_%23%2Fl%2Fmeetup-join%2F19%3Ameeting_ZWNiODI4NmMtOWI0OC00ZThiLTk5OGQtOTBhNDY4ZmZjNTdk%40thread.v2%2F0%3Fcontext%3D%257b%2522Tid%2522%253a%2522c5ddf8e5-79f5-4eef-8661-81e186c524bb%2522%252c%2522Oid%2522%253a%2522b0d6dfe1-6fd2-4be6-80d8-8ed8a4e31c2f%2522%257d%26anon%3Dtrue&type=meetup-join&deeplinkId=d4e3951d-f9d3-4f20-b478-e39e2ab55b9f&directDl=true&msLaunch=true&enableMobilePage=true&suppressPrompt=true
END:VEVENT
BEGIN:VEVENT
DTSTART;TZID=America/Indiana/Indianapolis:20281227T130000
DTEND;TZID=America/Indiana/Indianapolis:20281227T140000
DTSTAMP:20260421T093910
CREATED:20250109T140141Z
LAST-MODIFIED:20250109T141551Z
UID:20003154-1861534800-1861538400@southbendin.gov
SUMMARY:Special Events Committee Meeting
DESCRIPTION:
URL:https://southbendin.gov/event/special-events-committee-meeting-2/2028-12-27/
CATEGORIES:Special Events Committee
LOCATION:https://teams.microsoft.com/dl/launcher/launcher.html?url=%2F_%23%2Fl%2Fmeetup-join%2F19%3Ameeting_ZWNiODI4NmMtOWI0OC00ZThiLTk5OGQtOTBhNDY4ZmZjNTdk%40thread.v2%2F0%3Fcontext%3D%257b%2522Tid%2522%253a%2522c5ddf8e5-79f5-4eef-8661-81e186c524bb%2522%252c%2522Oid%2522%253a%2522b0d6dfe1-6fd2-4be6-80d8-8ed8a4e31c2f%2522%257d%26anon%3Dtrue&type=meetup-join&deeplinkId=d4e3951d-f9d3-4f20-b478-e39e2ab55b9f&directDl=true&msLaunch=true&enableMobilePage=true&suppressPrompt=true
END:VEVENT
BEGIN:VEVENT
DTSTART;TZID=America/Indiana/Indianapolis:20290110T130000
DTEND;TZID=America/Indiana/Indianapolis:20290110T140000
DTSTAMP:20260421T093910
CREATED:20250109T140729Z
LAST-MODIFIED:20250109T140822Z
UID:20003094-1862744400-1862748000@southbendin.gov
SUMMARY:Special Events Committee Meeting
DESCRIPTION:
URL:https://southbendin.gov/event/special-events-committee-meeting-3/2029-01-10/
CATEGORIES:Special Events Committee
LOCATION:https://teams.microsoft.com/dl/launcher/launcher.html?url=%2F_%23%2Fl%2Fmeetup-join%2F19%3Ameeting_ZWNiODI4NmMtOWI0OC00ZThiLTk5OGQtOTBhNDY4ZmZjNTdk%40thread.v2%2F0%3Fcontext%3D%257b%2522Tid%2522%253a%2522c5ddf8e5-79f5-4eef-8661-81e186c524bb%2522%252c%2522Oid%2522%253a%2522b0d6dfe1-6fd2-4be6-80d8-8ed8a4e31c2f%2522%257d%26anon%3Dtrue&type=meetup-join&deeplinkId=d4e3951d-f9d3-4f20-b478-e39e2ab55b9f&directDl=true&msLaunch=true&enableMobilePage=true&suppressPrompt=true
END:VEVENT
BEGIN:VEVENT
DTSTART;TZID=America/Indiana/Indianapolis:20290124T130000
DTEND;TZID=America/Indiana/Indianapolis:20290124T140000
DTSTAMP:20260421T093910
CREATED:20250109T140141Z
LAST-MODIFIED:20250109T141551Z
UID:20003155-1863954000-1863957600@southbendin.gov
SUMMARY:Special Events Committee Meeting
DESCRIPTION:
URL:https://southbendin.gov/event/special-events-committee-meeting-2/2029-01-24/
CATEGORIES:Special Events Committee
LOCATION:https://teams.microsoft.com/dl/launcher/launcher.html?url=%2F_%23%2Fl%2Fmeetup-join%2F19%3Ameeting_ZWNiODI4NmMtOWI0OC00ZThiLTk5OGQtOTBhNDY4ZmZjNTdk%40thread.v2%2F0%3Fcontext%3D%257b%2522Tid%2522%253a%2522c5ddf8e5-79f5-4eef-8661-81e186c524bb%2522%252c%2522Oid%2522%253a%2522b0d6dfe1-6fd2-4be6-80d8-8ed8a4e31c2f%2522%257d%26anon%3Dtrue&type=meetup-join&deeplinkId=d4e3951d-f9d3-4f20-b478-e39e2ab55b9f&directDl=true&msLaunch=true&enableMobilePage=true&suppressPrompt=true
END:VEVENT
BEGIN:VEVENT
DTSTART;TZID=America/Indiana/Indianapolis:20290214T130000
DTEND;TZID=America/Indiana/Indianapolis:20290214T140000
DTSTAMP:20260421T093910
CREATED:20250109T140729Z
LAST-MODIFIED:20250109T140822Z
UID:20003095-1865768400-1865772000@southbendin.gov
SUMMARY:Special Events Committee Meeting
DESCRIPTION:
URL:https://southbendin.gov/event/special-events-committee-meeting-3/2029-02-14/
CATEGORIES:Special Events Committee
LOCATION:https://teams.microsoft.com/dl/launcher/launcher.html?url=%2F_%23%2Fl%2Fmeetup-join%2F19%3Ameeting_ZWNiODI4NmMtOWI0OC00ZThiLTk5OGQtOTBhNDY4ZmZjNTdk%40thread.v2%2F0%3Fcontext%3D%257b%2522Tid%2522%253a%2522c5ddf8e5-79f5-4eef-8661-81e186c524bb%2522%252c%2522Oid%2522%253a%2522b0d6dfe1-6fd2-4be6-80d8-8ed8a4e31c2f%2522%257d%26anon%3Dtrue&type=meetup-join&deeplinkId=d4e3951d-f9d3-4f20-b478-e39e2ab55b9f&directDl=true&msLaunch=true&enableMobilePage=true&suppressPrompt=true
END:VEVENT
BEGIN:VEVENT
DTSTART;TZID=America/Indiana/Indianapolis:20290228T130000
DTEND;TZID=America/Indiana/Indianapolis:20290228T140000
DTSTAMP:20260421T093910
CREATED:20250109T140141Z
LAST-MODIFIED:20250109T141551Z
UID:20003156-1866978000-1866981600@southbendin.gov
SUMMARY:Special Events Committee Meeting
DESCRIPTION:
URL:https://southbendin.gov/event/special-events-committee-meeting-2/2029-02-28/
CATEGORIES:Special Events Committee
LOCATION:https://teams.microsoft.com/dl/launcher/launcher.html?url=%2F_%23%2Fl%2Fmeetup-join%2F19%3Ameeting_ZWNiODI4NmMtOWI0OC00ZThiLTk5OGQtOTBhNDY4ZmZjNTdk%40thread.v2%2F0%3Fcontext%3D%257b%2522Tid%2522%253a%2522c5ddf8e5-79f5-4eef-8661-81e186c524bb%2522%252c%2522Oid%2522%253a%2522b0d6dfe1-6fd2-4be6-80d8-8ed8a4e31c2f%2522%257d%26anon%3Dtrue&type=meetup-join&deeplinkId=d4e3951d-f9d3-4f20-b478-e39e2ab55b9f&directDl=true&msLaunch=true&enableMobilePage=true&suppressPrompt=true
END:VEVENT
BEGIN:VEVENT
DTSTART;TZID=America/Indiana/Indianapolis:20290314T130000
DTEND;TZID=America/Indiana/Indianapolis:20290314T140000
DTSTAMP:20260421T093910
CREATED:20250109T140729Z
LAST-MODIFIED:20250109T140822Z
UID:20003096-1868187600-1868191200@southbendin.gov
SUMMARY:Special Events Committee Meeting
DESCRIPTION:
URL:https://southbendin.gov/event/special-events-committee-meeting-3/2029-03-14/
CATEGORIES:Special Events Committee
LOCATION:https://teams.microsoft.com/dl/launcher/launcher.html?url=%2F_%23%2Fl%2Fmeetup-join%2F19%3Ameeting_ZWNiODI4NmMtOWI0OC00ZThiLTk5OGQtOTBhNDY4ZmZjNTdk%40thread.v2%2F0%3Fcontext%3D%257b%2522Tid%2522%253a%2522c5ddf8e5-79f5-4eef-8661-81e186c524bb%2522%252c%2522Oid%2522%253a%2522b0d6dfe1-6fd2-4be6-80d8-8ed8a4e31c2f%2522%257d%26anon%3Dtrue&type=meetup-join&deeplinkId=d4e3951d-f9d3-4f20-b478-e39e2ab55b9f&directDl=true&msLaunch=true&enableMobilePage=true&suppressPrompt=true
END:VEVENT
BEGIN:VEVENT
DTSTART;TZID=America/Indiana/Indianapolis:20290328T130000
DTEND;TZID=America/Indiana/Indianapolis:20290328T140000
DTSTAMP:20260421T093910
CREATED:20250109T140141Z
LAST-MODIFIED:20250109T141551Z
UID:20003157-1869397200-1869400800@southbendin.gov
SUMMARY:Special Events Committee Meeting
DESCRIPTION:
URL:https://southbendin.gov/event/special-events-committee-meeting-2/2029-03-28/
CATEGORIES:Special Events Committee
LOCATION:https://teams.microsoft.com/dl/launcher/launcher.html?url=%2F_%23%2Fl%2Fmeetup-join%2F19%3Ameeting_ZWNiODI4NmMtOWI0OC00ZThiLTk5OGQtOTBhNDY4ZmZjNTdk%40thread.v2%2F0%3Fcontext%3D%257b%2522Tid%2522%253a%2522c5ddf8e5-79f5-4eef-8661-81e186c524bb%2522%252c%2522Oid%2522%253a%2522b0d6dfe1-6fd2-4be6-80d8-8ed8a4e31c2f%2522%257d%26anon%3Dtrue&type=meetup-join&deeplinkId=d4e3951d-f9d3-4f20-b478-e39e2ab55b9f&directDl=true&msLaunch=true&enableMobilePage=true&suppressPrompt=true
END:VEVENT
END:VCALENDAR