BEGIN:VCALENDAR
VERSION:2.0
PRODID:-//South Bend, Indiana - ECPv6.15.20//NONSGML v1.0//EN
CALSCALE:GREGORIAN
METHOD:PUBLISH
X-WR-CALNAME:South Bend, Indiana
X-ORIGINAL-URL:https://southbendin.gov
X-WR-CALDESC:Events for South Bend, Indiana
REFRESH-INTERVAL;VALUE=DURATION:PT1H
X-Robots-Tag:noindex
X-PUBLISHED-TTL:PT1H
BEGIN:VTIMEZONE
TZID:America/Indiana/Indianapolis
BEGIN:DAYLIGHT
TZOFFSETFROM:-0500
TZOFFSETTO:-0400
TZNAME:EDT
DTSTART:20250309T070000
END:DAYLIGHT
BEGIN:STANDARD
TZOFFSETFROM:-0400
TZOFFSETTO:-0500
TZNAME:EST
DTSTART:20251102T060000
END:STANDARD
BEGIN:DAYLIGHT
TZOFFSETFROM:-0500
TZOFFSETTO:-0400
TZNAME:EDT
DTSTART:20260308T070000
END:DAYLIGHT
BEGIN:STANDARD
TZOFFSETFROM:-0400
TZOFFSETTO:-0500
TZNAME:EST
DTSTART:20261101T060000
END:STANDARD
BEGIN:DAYLIGHT
TZOFFSETFROM:-0500
TZOFFSETTO:-0400
TZNAME:EDT
DTSTART:20270314T070000
END:DAYLIGHT
BEGIN:STANDARD
TZOFFSETFROM:-0400
TZOFFSETTO:-0500
TZNAME:EST
DTSTART:20271107T060000
END:STANDARD
BEGIN:DAYLIGHT
TZOFFSETFROM:-0500
TZOFFSETTO:-0400
TZNAME:EDT
DTSTART:20280312T070000
END:DAYLIGHT
BEGIN:STANDARD
TZOFFSETFROM:-0400
TZOFFSETTO:-0500
TZNAME:EST
DTSTART:20281105T060000
END:STANDARD
END:VTIMEZONE
BEGIN:VEVENT
DTSTART;TZID=America/Indiana/Indianapolis:20260527T130000
DTEND;TZID=America/Indiana/Indianapolis:20260527T140000
DTSTAMP:20260421T104735
CREATED:20250109T140141Z
LAST-MODIFIED:20250109T141551Z
UID:20003123-1779886800-1779890400@southbendin.gov
SUMMARY:Special Events Committee Meeting
DESCRIPTION:
URL:https://southbendin.gov/event/special-events-committee-meeting-2/2026-05-27/
CATEGORIES:Special Events Committee
LOCATION:https://teams.microsoft.com/dl/launcher/launcher.html?url=%2F_%23%2Fl%2Fmeetup-join%2F19%3Ameeting_ZWNiODI4NmMtOWI0OC00ZThiLTk5OGQtOTBhNDY4ZmZjNTdk%40thread.v2%2F0%3Fcontext%3D%257b%2522Tid%2522%253a%2522c5ddf8e5-79f5-4eef-8661-81e186c524bb%2522%252c%2522Oid%2522%253a%2522b0d6dfe1-6fd2-4be6-80d8-8ed8a4e31c2f%2522%257d%26anon%3Dtrue&type=meetup-join&deeplinkId=d4e3951d-f9d3-4f20-b478-e39e2ab55b9f&directDl=true&msLaunch=true&enableMobilePage=true&suppressPrompt=true
END:VEVENT
BEGIN:VEVENT
DTSTART;TZID=America/Indiana/Indianapolis:20260610T130000
DTEND;TZID=America/Indiana/Indianapolis:20260610T140000
DTSTAMP:20260421T104735
CREATED:20250109T140729Z
LAST-MODIFIED:20250109T140822Z
UID:20003063-1781096400-1781100000@southbendin.gov
SUMMARY:Special Events Committee Meeting
DESCRIPTION:
URL:https://southbendin.gov/event/special-events-committee-meeting-3/2026-06-10/
CATEGORIES:Special Events Committee
LOCATION:https://teams.microsoft.com/dl/launcher/launcher.html?url=%2F_%23%2Fl%2Fmeetup-join%2F19%3Ameeting_ZWNiODI4NmMtOWI0OC00ZThiLTk5OGQtOTBhNDY4ZmZjNTdk%40thread.v2%2F0%3Fcontext%3D%257b%2522Tid%2522%253a%2522c5ddf8e5-79f5-4eef-8661-81e186c524bb%2522%252c%2522Oid%2522%253a%2522b0d6dfe1-6fd2-4be6-80d8-8ed8a4e31c2f%2522%257d%26anon%3Dtrue&type=meetup-join&deeplinkId=d4e3951d-f9d3-4f20-b478-e39e2ab55b9f&directDl=true&msLaunch=true&enableMobilePage=true&suppressPrompt=true
END:VEVENT
BEGIN:VEVENT
DTSTART;TZID=America/Indiana/Indianapolis:20260624T130000
DTEND;TZID=America/Indiana/Indianapolis:20260624T140000
DTSTAMP:20260421T104735
CREATED:20250109T140141Z
LAST-MODIFIED:20250109T141551Z
UID:20003124-1782306000-1782309600@southbendin.gov
SUMMARY:Special Events Committee Meeting
DESCRIPTION:
URL:https://southbendin.gov/event/special-events-committee-meeting-2/2026-06-24/
CATEGORIES:Special Events Committee
LOCATION:https://teams.microsoft.com/dl/launcher/launcher.html?url=%2F_%23%2Fl%2Fmeetup-join%2F19%3Ameeting_ZWNiODI4NmMtOWI0OC00ZThiLTk5OGQtOTBhNDY4ZmZjNTdk%40thread.v2%2F0%3Fcontext%3D%257b%2522Tid%2522%253a%2522c5ddf8e5-79f5-4eef-8661-81e186c524bb%2522%252c%2522Oid%2522%253a%2522b0d6dfe1-6fd2-4be6-80d8-8ed8a4e31c2f%2522%257d%26anon%3Dtrue&type=meetup-join&deeplinkId=d4e3951d-f9d3-4f20-b478-e39e2ab55b9f&directDl=true&msLaunch=true&enableMobilePage=true&suppressPrompt=true
END:VEVENT
BEGIN:VEVENT
DTSTART;TZID=America/Indiana/Indianapolis:20260708T130000
DTEND;TZID=America/Indiana/Indianapolis:20260708T140000
DTSTAMP:20260421T104735
CREATED:20250109T140729Z
LAST-MODIFIED:20250109T140822Z
UID:20003064-1783515600-1783519200@southbendin.gov
SUMMARY:Special Events Committee Meeting
DESCRIPTION:
URL:https://southbendin.gov/event/special-events-committee-meeting-3/2026-07-08/
CATEGORIES:Special Events Committee
LOCATION:https://teams.microsoft.com/dl/launcher/launcher.html?url=%2F_%23%2Fl%2Fmeetup-join%2F19%3Ameeting_ZWNiODI4NmMtOWI0OC00ZThiLTk5OGQtOTBhNDY4ZmZjNTdk%40thread.v2%2F0%3Fcontext%3D%257b%2522Tid%2522%253a%2522c5ddf8e5-79f5-4eef-8661-81e186c524bb%2522%252c%2522Oid%2522%253a%2522b0d6dfe1-6fd2-4be6-80d8-8ed8a4e31c2f%2522%257d%26anon%3Dtrue&type=meetup-join&deeplinkId=d4e3951d-f9d3-4f20-b478-e39e2ab55b9f&directDl=true&msLaunch=true&enableMobilePage=true&suppressPrompt=true
END:VEVENT
BEGIN:VEVENT
DTSTART;TZID=America/Indiana/Indianapolis:20260722T130000
DTEND;TZID=America/Indiana/Indianapolis:20260722T140000
DTSTAMP:20260421T104735
CREATED:20250109T140141Z
LAST-MODIFIED:20250109T141551Z
UID:20003125-1784725200-1784728800@southbendin.gov
SUMMARY:Special Events Committee Meeting
DESCRIPTION:
URL:https://southbendin.gov/event/special-events-committee-meeting-2/2026-07-22/
CATEGORIES:Special Events Committee
LOCATION:https://teams.microsoft.com/dl/launcher/launcher.html?url=%2F_%23%2Fl%2Fmeetup-join%2F19%3Ameeting_ZWNiODI4NmMtOWI0OC00ZThiLTk5OGQtOTBhNDY4ZmZjNTdk%40thread.v2%2F0%3Fcontext%3D%257b%2522Tid%2522%253a%2522c5ddf8e5-79f5-4eef-8661-81e186c524bb%2522%252c%2522Oid%2522%253a%2522b0d6dfe1-6fd2-4be6-80d8-8ed8a4e31c2f%2522%257d%26anon%3Dtrue&type=meetup-join&deeplinkId=d4e3951d-f9d3-4f20-b478-e39e2ab55b9f&directDl=true&msLaunch=true&enableMobilePage=true&suppressPrompt=true
END:VEVENT
BEGIN:VEVENT
DTSTART;TZID=America/Indiana/Indianapolis:20260812T130000
DTEND;TZID=America/Indiana/Indianapolis:20260812T140000
DTSTAMP:20260421T104735
CREATED:20250109T140729Z
LAST-MODIFIED:20250109T140822Z
UID:20003065-1786539600-1786543200@southbendin.gov
SUMMARY:Special Events Committee Meeting
DESCRIPTION:
URL:https://southbendin.gov/event/special-events-committee-meeting-3/2026-08-12/
CATEGORIES:Special Events Committee
LOCATION:https://teams.microsoft.com/dl/launcher/launcher.html?url=%2F_%23%2Fl%2Fmeetup-join%2F19%3Ameeting_ZWNiODI4NmMtOWI0OC00ZThiLTk5OGQtOTBhNDY4ZmZjNTdk%40thread.v2%2F0%3Fcontext%3D%257b%2522Tid%2522%253a%2522c5ddf8e5-79f5-4eef-8661-81e186c524bb%2522%252c%2522Oid%2522%253a%2522b0d6dfe1-6fd2-4be6-80d8-8ed8a4e31c2f%2522%257d%26anon%3Dtrue&type=meetup-join&deeplinkId=d4e3951d-f9d3-4f20-b478-e39e2ab55b9f&directDl=true&msLaunch=true&enableMobilePage=true&suppressPrompt=true
END:VEVENT
BEGIN:VEVENT
DTSTART;TZID=America/Indiana/Indianapolis:20260826T130000
DTEND;TZID=America/Indiana/Indianapolis:20260826T140000
DTSTAMP:20260421T104735
CREATED:20250109T140141Z
LAST-MODIFIED:20250109T141551Z
UID:20003126-1787749200-1787752800@southbendin.gov
SUMMARY:Special Events Committee Meeting
DESCRIPTION:
URL:https://southbendin.gov/event/special-events-committee-meeting-2/2026-08-26/
CATEGORIES:Special Events Committee
LOCATION:https://teams.microsoft.com/dl/launcher/launcher.html?url=%2F_%23%2Fl%2Fmeetup-join%2F19%3Ameeting_ZWNiODI4NmMtOWI0OC00ZThiLTk5OGQtOTBhNDY4ZmZjNTdk%40thread.v2%2F0%3Fcontext%3D%257b%2522Tid%2522%253a%2522c5ddf8e5-79f5-4eef-8661-81e186c524bb%2522%252c%2522Oid%2522%253a%2522b0d6dfe1-6fd2-4be6-80d8-8ed8a4e31c2f%2522%257d%26anon%3Dtrue&type=meetup-join&deeplinkId=d4e3951d-f9d3-4f20-b478-e39e2ab55b9f&directDl=true&msLaunch=true&enableMobilePage=true&suppressPrompt=true
END:VEVENT
BEGIN:VEVENT
DTSTART;TZID=America/Indiana/Indianapolis:20260909T130000
DTEND;TZID=America/Indiana/Indianapolis:20260909T140000
DTSTAMP:20260421T104735
CREATED:20250109T140729Z
LAST-MODIFIED:20250109T140822Z
UID:20003066-1788958800-1788962400@southbendin.gov
SUMMARY:Special Events Committee Meeting
DESCRIPTION:
URL:https://southbendin.gov/event/special-events-committee-meeting-3/2026-09-09/
CATEGORIES:Special Events Committee
LOCATION:https://teams.microsoft.com/dl/launcher/launcher.html?url=%2F_%23%2Fl%2Fmeetup-join%2F19%3Ameeting_ZWNiODI4NmMtOWI0OC00ZThiLTk5OGQtOTBhNDY4ZmZjNTdk%40thread.v2%2F0%3Fcontext%3D%257b%2522Tid%2522%253a%2522c5ddf8e5-79f5-4eef-8661-81e186c524bb%2522%252c%2522Oid%2522%253a%2522b0d6dfe1-6fd2-4be6-80d8-8ed8a4e31c2f%2522%257d%26anon%3Dtrue&type=meetup-join&deeplinkId=d4e3951d-f9d3-4f20-b478-e39e2ab55b9f&directDl=true&msLaunch=true&enableMobilePage=true&suppressPrompt=true
END:VEVENT
BEGIN:VEVENT
DTSTART;TZID=America/Indiana/Indianapolis:20260923T130000
DTEND;TZID=America/Indiana/Indianapolis:20260923T140000
DTSTAMP:20260421T104735
CREATED:20250109T140141Z
LAST-MODIFIED:20250109T141551Z
UID:20003127-1790168400-1790172000@southbendin.gov
SUMMARY:Special Events Committee Meeting
DESCRIPTION:
URL:https://southbendin.gov/event/special-events-committee-meeting-2/2026-09-23/
CATEGORIES:Special Events Committee
LOCATION:https://teams.microsoft.com/dl/launcher/launcher.html?url=%2F_%23%2Fl%2Fmeetup-join%2F19%3Ameeting_ZWNiODI4NmMtOWI0OC00ZThiLTk5OGQtOTBhNDY4ZmZjNTdk%40thread.v2%2F0%3Fcontext%3D%257b%2522Tid%2522%253a%2522c5ddf8e5-79f5-4eef-8661-81e186c524bb%2522%252c%2522Oid%2522%253a%2522b0d6dfe1-6fd2-4be6-80d8-8ed8a4e31c2f%2522%257d%26anon%3Dtrue&type=meetup-join&deeplinkId=d4e3951d-f9d3-4f20-b478-e39e2ab55b9f&directDl=true&msLaunch=true&enableMobilePage=true&suppressPrompt=true
END:VEVENT
BEGIN:VEVENT
DTSTART;TZID=America/Indiana/Indianapolis:20261014T130000
DTEND;TZID=America/Indiana/Indianapolis:20261014T140000
DTSTAMP:20260421T104735
CREATED:20250109T140729Z
LAST-MODIFIED:20250109T140822Z
UID:20003067-1791982800-1791986400@southbendin.gov
SUMMARY:Special Events Committee Meeting
DESCRIPTION:
URL:https://southbendin.gov/event/special-events-committee-meeting-3/2026-10-14/
CATEGORIES:Special Events Committee
LOCATION:https://teams.microsoft.com/dl/launcher/launcher.html?url=%2F_%23%2Fl%2Fmeetup-join%2F19%3Ameeting_ZWNiODI4NmMtOWI0OC00ZThiLTk5OGQtOTBhNDY4ZmZjNTdk%40thread.v2%2F0%3Fcontext%3D%257b%2522Tid%2522%253a%2522c5ddf8e5-79f5-4eef-8661-81e186c524bb%2522%252c%2522Oid%2522%253a%2522b0d6dfe1-6fd2-4be6-80d8-8ed8a4e31c2f%2522%257d%26anon%3Dtrue&type=meetup-join&deeplinkId=d4e3951d-f9d3-4f20-b478-e39e2ab55b9f&directDl=true&msLaunch=true&enableMobilePage=true&suppressPrompt=true
END:VEVENT
BEGIN:VEVENT
DTSTART;TZID=America/Indiana/Indianapolis:20261028T130000
DTEND;TZID=America/Indiana/Indianapolis:20261028T140000
DTSTAMP:20260421T104735
CREATED:20250109T140141Z
LAST-MODIFIED:20250109T141551Z
UID:20003128-1793192400-1793196000@southbendin.gov
SUMMARY:Special Events Committee Meeting
DESCRIPTION:
URL:https://southbendin.gov/event/special-events-committee-meeting-2/2026-10-28/
CATEGORIES:Special Events Committee
LOCATION:https://teams.microsoft.com/dl/launcher/launcher.html?url=%2F_%23%2Fl%2Fmeetup-join%2F19%3Ameeting_ZWNiODI4NmMtOWI0OC00ZThiLTk5OGQtOTBhNDY4ZmZjNTdk%40thread.v2%2F0%3Fcontext%3D%257b%2522Tid%2522%253a%2522c5ddf8e5-79f5-4eef-8661-81e186c524bb%2522%252c%2522Oid%2522%253a%2522b0d6dfe1-6fd2-4be6-80d8-8ed8a4e31c2f%2522%257d%26anon%3Dtrue&type=meetup-join&deeplinkId=d4e3951d-f9d3-4f20-b478-e39e2ab55b9f&directDl=true&msLaunch=true&enableMobilePage=true&suppressPrompt=true
END:VEVENT
BEGIN:VEVENT
DTSTART;TZID=America/Indiana/Indianapolis:20261111T130000
DTEND;TZID=America/Indiana/Indianapolis:20261111T140000
DTSTAMP:20260421T104735
CREATED:20250109T140729Z
LAST-MODIFIED:20250109T140822Z
UID:20003068-1794402000-1794405600@southbendin.gov
SUMMARY:Special Events Committee Meeting
DESCRIPTION:
URL:https://southbendin.gov/event/special-events-committee-meeting-3/2026-11-11/
CATEGORIES:Special Events Committee
LOCATION:https://teams.microsoft.com/dl/launcher/launcher.html?url=%2F_%23%2Fl%2Fmeetup-join%2F19%3Ameeting_ZWNiODI4NmMtOWI0OC00ZThiLTk5OGQtOTBhNDY4ZmZjNTdk%40thread.v2%2F0%3Fcontext%3D%257b%2522Tid%2522%253a%2522c5ddf8e5-79f5-4eef-8661-81e186c524bb%2522%252c%2522Oid%2522%253a%2522b0d6dfe1-6fd2-4be6-80d8-8ed8a4e31c2f%2522%257d%26anon%3Dtrue&type=meetup-join&deeplinkId=d4e3951d-f9d3-4f20-b478-e39e2ab55b9f&directDl=true&msLaunch=true&enableMobilePage=true&suppressPrompt=true
END:VEVENT
BEGIN:VEVENT
DTSTART;TZID=America/Indiana/Indianapolis:20261125T130000
DTEND;TZID=America/Indiana/Indianapolis:20261125T140000
DTSTAMP:20260421T104735
CREATED:20250109T140141Z
LAST-MODIFIED:20250109T141551Z
UID:20003129-1795611600-1795615200@southbendin.gov
SUMMARY:Special Events Committee Meeting
DESCRIPTION:
URL:https://southbendin.gov/event/special-events-committee-meeting-2/2026-11-25/
CATEGORIES:Special Events Committee
LOCATION:https://teams.microsoft.com/dl/launcher/launcher.html?url=%2F_%23%2Fl%2Fmeetup-join%2F19%3Ameeting_ZWNiODI4NmMtOWI0OC00ZThiLTk5OGQtOTBhNDY4ZmZjNTdk%40thread.v2%2F0%3Fcontext%3D%257b%2522Tid%2522%253a%2522c5ddf8e5-79f5-4eef-8661-81e186c524bb%2522%252c%2522Oid%2522%253a%2522b0d6dfe1-6fd2-4be6-80d8-8ed8a4e31c2f%2522%257d%26anon%3Dtrue&type=meetup-join&deeplinkId=d4e3951d-f9d3-4f20-b478-e39e2ab55b9f&directDl=true&msLaunch=true&enableMobilePage=true&suppressPrompt=true
END:VEVENT
BEGIN:VEVENT
DTSTART;TZID=America/Indiana/Indianapolis:20261209T130000
DTEND;TZID=America/Indiana/Indianapolis:20261209T140000
DTSTAMP:20260421T104735
CREATED:20250109T140729Z
LAST-MODIFIED:20250109T140822Z
UID:20003069-1796821200-1796824800@southbendin.gov
SUMMARY:Special Events Committee Meeting
DESCRIPTION:
URL:https://southbendin.gov/event/special-events-committee-meeting-3/2026-12-09/
CATEGORIES:Special Events Committee
LOCATION:https://teams.microsoft.com/dl/launcher/launcher.html?url=%2F_%23%2Fl%2Fmeetup-join%2F19%3Ameeting_ZWNiODI4NmMtOWI0OC00ZThiLTk5OGQtOTBhNDY4ZmZjNTdk%40thread.v2%2F0%3Fcontext%3D%257b%2522Tid%2522%253a%2522c5ddf8e5-79f5-4eef-8661-81e186c524bb%2522%252c%2522Oid%2522%253a%2522b0d6dfe1-6fd2-4be6-80d8-8ed8a4e31c2f%2522%257d%26anon%3Dtrue&type=meetup-join&deeplinkId=d4e3951d-f9d3-4f20-b478-e39e2ab55b9f&directDl=true&msLaunch=true&enableMobilePage=true&suppressPrompt=true
END:VEVENT
BEGIN:VEVENT
DTSTART;TZID=America/Indiana/Indianapolis:20261223T130000
DTEND;TZID=America/Indiana/Indianapolis:20261223T140000
DTSTAMP:20260421T104735
CREATED:20250109T140141Z
LAST-MODIFIED:20250109T141551Z
UID:20003130-1798030800-1798034400@southbendin.gov
SUMMARY:Special Events Committee Meeting
DESCRIPTION:
URL:https://southbendin.gov/event/special-events-committee-meeting-2/2026-12-23/
CATEGORIES:Special Events Committee
LOCATION:https://teams.microsoft.com/dl/launcher/launcher.html?url=%2F_%23%2Fl%2Fmeetup-join%2F19%3Ameeting_ZWNiODI4NmMtOWI0OC00ZThiLTk5OGQtOTBhNDY4ZmZjNTdk%40thread.v2%2F0%3Fcontext%3D%257b%2522Tid%2522%253a%2522c5ddf8e5-79f5-4eef-8661-81e186c524bb%2522%252c%2522Oid%2522%253a%2522b0d6dfe1-6fd2-4be6-80d8-8ed8a4e31c2f%2522%257d%26anon%3Dtrue&type=meetup-join&deeplinkId=d4e3951d-f9d3-4f20-b478-e39e2ab55b9f&directDl=true&msLaunch=true&enableMobilePage=true&suppressPrompt=true
END:VEVENT
BEGIN:VEVENT
DTSTART;TZID=America/Indiana/Indianapolis:20270113T130000
DTEND;TZID=America/Indiana/Indianapolis:20270113T140000
DTSTAMP:20260421T104735
CREATED:20250109T140729Z
LAST-MODIFIED:20250109T140822Z
UID:20003070-1799845200-1799848800@southbendin.gov
SUMMARY:Special Events Committee Meeting
DESCRIPTION:
URL:https://southbendin.gov/event/special-events-committee-meeting-3/2027-01-13/
CATEGORIES:Special Events Committee
LOCATION:https://teams.microsoft.com/dl/launcher/launcher.html?url=%2F_%23%2Fl%2Fmeetup-join%2F19%3Ameeting_ZWNiODI4NmMtOWI0OC00ZThiLTk5OGQtOTBhNDY4ZmZjNTdk%40thread.v2%2F0%3Fcontext%3D%257b%2522Tid%2522%253a%2522c5ddf8e5-79f5-4eef-8661-81e186c524bb%2522%252c%2522Oid%2522%253a%2522b0d6dfe1-6fd2-4be6-80d8-8ed8a4e31c2f%2522%257d%26anon%3Dtrue&type=meetup-join&deeplinkId=d4e3951d-f9d3-4f20-b478-e39e2ab55b9f&directDl=true&msLaunch=true&enableMobilePage=true&suppressPrompt=true
END:VEVENT
BEGIN:VEVENT
DTSTART;TZID=America/Indiana/Indianapolis:20270127T130000
DTEND;TZID=America/Indiana/Indianapolis:20270127T140000
DTSTAMP:20260421T104735
CREATED:20250109T140141Z
LAST-MODIFIED:20250109T141551Z
UID:20003131-1801054800-1801058400@southbendin.gov
SUMMARY:Special Events Committee Meeting
DESCRIPTION:
URL:https://southbendin.gov/event/special-events-committee-meeting-2/2027-01-27/
CATEGORIES:Special Events Committee
LOCATION:https://teams.microsoft.com/dl/launcher/launcher.html?url=%2F_%23%2Fl%2Fmeetup-join%2F19%3Ameeting_ZWNiODI4NmMtOWI0OC00ZThiLTk5OGQtOTBhNDY4ZmZjNTdk%40thread.v2%2F0%3Fcontext%3D%257b%2522Tid%2522%253a%2522c5ddf8e5-79f5-4eef-8661-81e186c524bb%2522%252c%2522Oid%2522%253a%2522b0d6dfe1-6fd2-4be6-80d8-8ed8a4e31c2f%2522%257d%26anon%3Dtrue&type=meetup-join&deeplinkId=d4e3951d-f9d3-4f20-b478-e39e2ab55b9f&directDl=true&msLaunch=true&enableMobilePage=true&suppressPrompt=true
END:VEVENT
BEGIN:VEVENT
DTSTART;TZID=America/Indiana/Indianapolis:20270210T130000
DTEND;TZID=America/Indiana/Indianapolis:20270210T140000
DTSTAMP:20260421T104735
CREATED:20250109T140729Z
LAST-MODIFIED:20250109T140822Z
UID:20003071-1802264400-1802268000@southbendin.gov
SUMMARY:Special Events Committee Meeting
DESCRIPTION:
URL:https://southbendin.gov/event/special-events-committee-meeting-3/2027-02-10/
CATEGORIES:Special Events Committee
LOCATION:https://teams.microsoft.com/dl/launcher/launcher.html?url=%2F_%23%2Fl%2Fmeetup-join%2F19%3Ameeting_ZWNiODI4NmMtOWI0OC00ZThiLTk5OGQtOTBhNDY4ZmZjNTdk%40thread.v2%2F0%3Fcontext%3D%257b%2522Tid%2522%253a%2522c5ddf8e5-79f5-4eef-8661-81e186c524bb%2522%252c%2522Oid%2522%253a%2522b0d6dfe1-6fd2-4be6-80d8-8ed8a4e31c2f%2522%257d%26anon%3Dtrue&type=meetup-join&deeplinkId=d4e3951d-f9d3-4f20-b478-e39e2ab55b9f&directDl=true&msLaunch=true&enableMobilePage=true&suppressPrompt=true
END:VEVENT
BEGIN:VEVENT
DTSTART;TZID=America/Indiana/Indianapolis:20270224T130000
DTEND;TZID=America/Indiana/Indianapolis:20270224T140000
DTSTAMP:20260421T104735
CREATED:20250109T140141Z
LAST-MODIFIED:20250109T141551Z
UID:20003132-1803474000-1803477600@southbendin.gov
SUMMARY:Special Events Committee Meeting
DESCRIPTION:
URL:https://southbendin.gov/event/special-events-committee-meeting-2/2027-02-24/
CATEGORIES:Special Events Committee
LOCATION:https://teams.microsoft.com/dl/launcher/launcher.html?url=%2F_%23%2Fl%2Fmeetup-join%2F19%3Ameeting_ZWNiODI4NmMtOWI0OC00ZThiLTk5OGQtOTBhNDY4ZmZjNTdk%40thread.v2%2F0%3Fcontext%3D%257b%2522Tid%2522%253a%2522c5ddf8e5-79f5-4eef-8661-81e186c524bb%2522%252c%2522Oid%2522%253a%2522b0d6dfe1-6fd2-4be6-80d8-8ed8a4e31c2f%2522%257d%26anon%3Dtrue&type=meetup-join&deeplinkId=d4e3951d-f9d3-4f20-b478-e39e2ab55b9f&directDl=true&msLaunch=true&enableMobilePage=true&suppressPrompt=true
END:VEVENT
BEGIN:VEVENT
DTSTART;TZID=America/Indiana/Indianapolis:20270310T130000
DTEND;TZID=America/Indiana/Indianapolis:20270310T140000
DTSTAMP:20260421T104735
CREATED:20250109T140729Z
LAST-MODIFIED:20250109T140822Z
UID:20003072-1804683600-1804687200@southbendin.gov
SUMMARY:Special Events Committee Meeting
DESCRIPTION:
URL:https://southbendin.gov/event/special-events-committee-meeting-3/2027-03-10/
CATEGORIES:Special Events Committee
LOCATION:https://teams.microsoft.com/dl/launcher/launcher.html?url=%2F_%23%2Fl%2Fmeetup-join%2F19%3Ameeting_ZWNiODI4NmMtOWI0OC00ZThiLTk5OGQtOTBhNDY4ZmZjNTdk%40thread.v2%2F0%3Fcontext%3D%257b%2522Tid%2522%253a%2522c5ddf8e5-79f5-4eef-8661-81e186c524bb%2522%252c%2522Oid%2522%253a%2522b0d6dfe1-6fd2-4be6-80d8-8ed8a4e31c2f%2522%257d%26anon%3Dtrue&type=meetup-join&deeplinkId=d4e3951d-f9d3-4f20-b478-e39e2ab55b9f&directDl=true&msLaunch=true&enableMobilePage=true&suppressPrompt=true
END:VEVENT
BEGIN:VEVENT
DTSTART;TZID=America/Indiana/Indianapolis:20270324T130000
DTEND;TZID=America/Indiana/Indianapolis:20270324T140000
DTSTAMP:20260421T104735
CREATED:20250109T140141Z
LAST-MODIFIED:20250109T141551Z
UID:20003133-1805893200-1805896800@southbendin.gov
SUMMARY:Special Events Committee Meeting
DESCRIPTION:
URL:https://southbendin.gov/event/special-events-committee-meeting-2/2027-03-24/
CATEGORIES:Special Events Committee
LOCATION:https://teams.microsoft.com/dl/launcher/launcher.html?url=%2F_%23%2Fl%2Fmeetup-join%2F19%3Ameeting_ZWNiODI4NmMtOWI0OC00ZThiLTk5OGQtOTBhNDY4ZmZjNTdk%40thread.v2%2F0%3Fcontext%3D%257b%2522Tid%2522%253a%2522c5ddf8e5-79f5-4eef-8661-81e186c524bb%2522%252c%2522Oid%2522%253a%2522b0d6dfe1-6fd2-4be6-80d8-8ed8a4e31c2f%2522%257d%26anon%3Dtrue&type=meetup-join&deeplinkId=d4e3951d-f9d3-4f20-b478-e39e2ab55b9f&directDl=true&msLaunch=true&enableMobilePage=true&suppressPrompt=true
END:VEVENT
BEGIN:VEVENT
DTSTART;TZID=America/Indiana/Indianapolis:20270414T130000
DTEND;TZID=America/Indiana/Indianapolis:20270414T140000
DTSTAMP:20260421T104735
CREATED:20250109T140729Z
LAST-MODIFIED:20250109T140822Z
UID:20003073-1807707600-1807711200@southbendin.gov
SUMMARY:Special Events Committee Meeting
DESCRIPTION:
URL:https://southbendin.gov/event/special-events-committee-meeting-3/2027-04-14/
CATEGORIES:Special Events Committee
LOCATION:https://teams.microsoft.com/dl/launcher/launcher.html?url=%2F_%23%2Fl%2Fmeetup-join%2F19%3Ameeting_ZWNiODI4NmMtOWI0OC00ZThiLTk5OGQtOTBhNDY4ZmZjNTdk%40thread.v2%2F0%3Fcontext%3D%257b%2522Tid%2522%253a%2522c5ddf8e5-79f5-4eef-8661-81e186c524bb%2522%252c%2522Oid%2522%253a%2522b0d6dfe1-6fd2-4be6-80d8-8ed8a4e31c2f%2522%257d%26anon%3Dtrue&type=meetup-join&deeplinkId=d4e3951d-f9d3-4f20-b478-e39e2ab55b9f&directDl=true&msLaunch=true&enableMobilePage=true&suppressPrompt=true
END:VEVENT
BEGIN:VEVENT
DTSTART;TZID=America/Indiana/Indianapolis:20270428T130000
DTEND;TZID=America/Indiana/Indianapolis:20270428T140000
DTSTAMP:20260421T104735
CREATED:20250109T140141Z
LAST-MODIFIED:20250109T141551Z
UID:20003134-1808917200-1808920800@southbendin.gov
SUMMARY:Special Events Committee Meeting
DESCRIPTION:
URL:https://southbendin.gov/event/special-events-committee-meeting-2/2027-04-28/
CATEGORIES:Special Events Committee
LOCATION:https://teams.microsoft.com/dl/launcher/launcher.html?url=%2F_%23%2Fl%2Fmeetup-join%2F19%3Ameeting_ZWNiODI4NmMtOWI0OC00ZThiLTk5OGQtOTBhNDY4ZmZjNTdk%40thread.v2%2F0%3Fcontext%3D%257b%2522Tid%2522%253a%2522c5ddf8e5-79f5-4eef-8661-81e186c524bb%2522%252c%2522Oid%2522%253a%2522b0d6dfe1-6fd2-4be6-80d8-8ed8a4e31c2f%2522%257d%26anon%3Dtrue&type=meetup-join&deeplinkId=d4e3951d-f9d3-4f20-b478-e39e2ab55b9f&directDl=true&msLaunch=true&enableMobilePage=true&suppressPrompt=true
END:VEVENT
BEGIN:VEVENT
DTSTART;TZID=America/Indiana/Indianapolis:20270512T130000
DTEND;TZID=America/Indiana/Indianapolis:20270512T140000
DTSTAMP:20260421T104735
CREATED:20250109T140729Z
LAST-MODIFIED:20250109T140822Z
UID:20003074-1810126800-1810130400@southbendin.gov
SUMMARY:Special Events Committee Meeting
DESCRIPTION:
URL:https://southbendin.gov/event/special-events-committee-meeting-3/2027-05-12/
CATEGORIES:Special Events Committee
LOCATION:https://teams.microsoft.com/dl/launcher/launcher.html?url=%2F_%23%2Fl%2Fmeetup-join%2F19%3Ameeting_ZWNiODI4NmMtOWI0OC00ZThiLTk5OGQtOTBhNDY4ZmZjNTdk%40thread.v2%2F0%3Fcontext%3D%257b%2522Tid%2522%253a%2522c5ddf8e5-79f5-4eef-8661-81e186c524bb%2522%252c%2522Oid%2522%253a%2522b0d6dfe1-6fd2-4be6-80d8-8ed8a4e31c2f%2522%257d%26anon%3Dtrue&type=meetup-join&deeplinkId=d4e3951d-f9d3-4f20-b478-e39e2ab55b9f&directDl=true&msLaunch=true&enableMobilePage=true&suppressPrompt=true
END:VEVENT
BEGIN:VEVENT
DTSTART;TZID=America/Indiana/Indianapolis:20270526T130000
DTEND;TZID=America/Indiana/Indianapolis:20270526T140000
DTSTAMP:20260421T104735
CREATED:20250109T140141Z
LAST-MODIFIED:20250109T141551Z
UID:20003135-1811336400-1811340000@southbendin.gov
SUMMARY:Special Events Committee Meeting
DESCRIPTION:
URL:https://southbendin.gov/event/special-events-committee-meeting-2/2027-05-26/
CATEGORIES:Special Events Committee
LOCATION:https://teams.microsoft.com/dl/launcher/launcher.html?url=%2F_%23%2Fl%2Fmeetup-join%2F19%3Ameeting_ZWNiODI4NmMtOWI0OC00ZThiLTk5OGQtOTBhNDY4ZmZjNTdk%40thread.v2%2F0%3Fcontext%3D%257b%2522Tid%2522%253a%2522c5ddf8e5-79f5-4eef-8661-81e186c524bb%2522%252c%2522Oid%2522%253a%2522b0d6dfe1-6fd2-4be6-80d8-8ed8a4e31c2f%2522%257d%26anon%3Dtrue&type=meetup-join&deeplinkId=d4e3951d-f9d3-4f20-b478-e39e2ab55b9f&directDl=true&msLaunch=true&enableMobilePage=true&suppressPrompt=true
END:VEVENT
BEGIN:VEVENT
DTSTART;TZID=America/Indiana/Indianapolis:20270609T130000
DTEND;TZID=America/Indiana/Indianapolis:20270609T140000
DTSTAMP:20260421T104735
CREATED:20250109T140729Z
LAST-MODIFIED:20250109T140822Z
UID:20003075-1812546000-1812549600@southbendin.gov
SUMMARY:Special Events Committee Meeting
DESCRIPTION:
URL:https://southbendin.gov/event/special-events-committee-meeting-3/2027-06-09/
CATEGORIES:Special Events Committee
LOCATION:https://teams.microsoft.com/dl/launcher/launcher.html?url=%2F_%23%2Fl%2Fmeetup-join%2F19%3Ameeting_ZWNiODI4NmMtOWI0OC00ZThiLTk5OGQtOTBhNDY4ZmZjNTdk%40thread.v2%2F0%3Fcontext%3D%257b%2522Tid%2522%253a%2522c5ddf8e5-79f5-4eef-8661-81e186c524bb%2522%252c%2522Oid%2522%253a%2522b0d6dfe1-6fd2-4be6-80d8-8ed8a4e31c2f%2522%257d%26anon%3Dtrue&type=meetup-join&deeplinkId=d4e3951d-f9d3-4f20-b478-e39e2ab55b9f&directDl=true&msLaunch=true&enableMobilePage=true&suppressPrompt=true
END:VEVENT
BEGIN:VEVENT
DTSTART;TZID=America/Indiana/Indianapolis:20270623T130000
DTEND;TZID=America/Indiana/Indianapolis:20270623T140000
DTSTAMP:20260421T104735
CREATED:20250109T140141Z
LAST-MODIFIED:20250109T141551Z
UID:20003136-1813755600-1813759200@southbendin.gov
SUMMARY:Special Events Committee Meeting
DESCRIPTION:
URL:https://southbendin.gov/event/special-events-committee-meeting-2/2027-06-23/
CATEGORIES:Special Events Committee
LOCATION:https://teams.microsoft.com/dl/launcher/launcher.html?url=%2F_%23%2Fl%2Fmeetup-join%2F19%3Ameeting_ZWNiODI4NmMtOWI0OC00ZThiLTk5OGQtOTBhNDY4ZmZjNTdk%40thread.v2%2F0%3Fcontext%3D%257b%2522Tid%2522%253a%2522c5ddf8e5-79f5-4eef-8661-81e186c524bb%2522%252c%2522Oid%2522%253a%2522b0d6dfe1-6fd2-4be6-80d8-8ed8a4e31c2f%2522%257d%26anon%3Dtrue&type=meetup-join&deeplinkId=d4e3951d-f9d3-4f20-b478-e39e2ab55b9f&directDl=true&msLaunch=true&enableMobilePage=true&suppressPrompt=true
END:VEVENT
BEGIN:VEVENT
DTSTART;TZID=America/Indiana/Indianapolis:20270714T130000
DTEND;TZID=America/Indiana/Indianapolis:20270714T140000
DTSTAMP:20260421T104735
CREATED:20250109T140729Z
LAST-MODIFIED:20250109T140822Z
UID:20003076-1815570000-1815573600@southbendin.gov
SUMMARY:Special Events Committee Meeting
DESCRIPTION:
URL:https://southbendin.gov/event/special-events-committee-meeting-3/2027-07-14/
CATEGORIES:Special Events Committee
LOCATION:https://teams.microsoft.com/dl/launcher/launcher.html?url=%2F_%23%2Fl%2Fmeetup-join%2F19%3Ameeting_ZWNiODI4NmMtOWI0OC00ZThiLTk5OGQtOTBhNDY4ZmZjNTdk%40thread.v2%2F0%3Fcontext%3D%257b%2522Tid%2522%253a%2522c5ddf8e5-79f5-4eef-8661-81e186c524bb%2522%252c%2522Oid%2522%253a%2522b0d6dfe1-6fd2-4be6-80d8-8ed8a4e31c2f%2522%257d%26anon%3Dtrue&type=meetup-join&deeplinkId=d4e3951d-f9d3-4f20-b478-e39e2ab55b9f&directDl=true&msLaunch=true&enableMobilePage=true&suppressPrompt=true
END:VEVENT
BEGIN:VEVENT
DTSTART;TZID=America/Indiana/Indianapolis:20270728T130000
DTEND;TZID=America/Indiana/Indianapolis:20270728T140000
DTSTAMP:20260421T104735
CREATED:20250109T140141Z
LAST-MODIFIED:20250109T141551Z
UID:20003137-1816779600-1816783200@southbendin.gov
SUMMARY:Special Events Committee Meeting
DESCRIPTION:
URL:https://southbendin.gov/event/special-events-committee-meeting-2/2027-07-28/
CATEGORIES:Special Events Committee
LOCATION:https://teams.microsoft.com/dl/launcher/launcher.html?url=%2F_%23%2Fl%2Fmeetup-join%2F19%3Ameeting_ZWNiODI4NmMtOWI0OC00ZThiLTk5OGQtOTBhNDY4ZmZjNTdk%40thread.v2%2F0%3Fcontext%3D%257b%2522Tid%2522%253a%2522c5ddf8e5-79f5-4eef-8661-81e186c524bb%2522%252c%2522Oid%2522%253a%2522b0d6dfe1-6fd2-4be6-80d8-8ed8a4e31c2f%2522%257d%26anon%3Dtrue&type=meetup-join&deeplinkId=d4e3951d-f9d3-4f20-b478-e39e2ab55b9f&directDl=true&msLaunch=true&enableMobilePage=true&suppressPrompt=true
END:VEVENT
BEGIN:VEVENT
DTSTART;TZID=America/Indiana/Indianapolis:20270811T130000
DTEND;TZID=America/Indiana/Indianapolis:20270811T140000
DTSTAMP:20260421T104735
CREATED:20250109T140729Z
LAST-MODIFIED:20250109T140822Z
UID:20003077-1817989200-1817992800@southbendin.gov
SUMMARY:Special Events Committee Meeting
DESCRIPTION:
URL:https://southbendin.gov/event/special-events-committee-meeting-3/2027-08-11/
CATEGORIES:Special Events Committee
LOCATION:https://teams.microsoft.com/dl/launcher/launcher.html?url=%2F_%23%2Fl%2Fmeetup-join%2F19%3Ameeting_ZWNiODI4NmMtOWI0OC00ZThiLTk5OGQtOTBhNDY4ZmZjNTdk%40thread.v2%2F0%3Fcontext%3D%257b%2522Tid%2522%253a%2522c5ddf8e5-79f5-4eef-8661-81e186c524bb%2522%252c%2522Oid%2522%253a%2522b0d6dfe1-6fd2-4be6-80d8-8ed8a4e31c2f%2522%257d%26anon%3Dtrue&type=meetup-join&deeplinkId=d4e3951d-f9d3-4f20-b478-e39e2ab55b9f&directDl=true&msLaunch=true&enableMobilePage=true&suppressPrompt=true
END:VEVENT
END:VCALENDAR